BEGIN:VCALENDAR
VERSION:2.0
PRODID:-//BayBuzz - ECPv5.3.1.1//NONSGML v1.0//EN
CALSCALE:GREGORIAN
METHOD:PUBLISH
X-WR-CALNAME:BayBuzz
X-ORIGINAL-URL:https://baybuzz.co.nz
X-WR-CALDESC:Events for BayBuzz
BEGIN:VTIMEZONE
TZID:Pacific/Auckland
BEGIN:STANDARD
TZOFFSETFROM:+1300
TZOFFSETTO:+1200
TZNAME:NZST
DTSTART:20210403T140000
END:STANDARD
BEGIN:DAYLIGHT
TZOFFSETFROM:+1200
TZOFFSETTO:+1300
TZNAME:NZDT
DTSTART:20210925T140000
END:DAYLIGHT
END:VTIMEZONE
BEGIN:VEVENT
DTSTART;VALUE=DATE:20210123
DTEND;VALUE=DATE:20210124
DTSTAMP:20210122T083956
CREATED:20201231T015006Z
LAST-MODIFIED:20210121T050840Z
UID:16492-1611360000-1611446399@baybuzz.co.nz
SUMMARY:Six60
DESCRIPTION:NZ’s biggest band is back on tour. This summer they’re bringing more top Aotearoa talent with them\, with different line-ups for each concert. Here in Hastings they’ll be joined by Shapeshifter\, Kings\, Maimoa and Nouri. Bound to sell out\, so get in quick! \n 
URL:https://baybuzz.co.nz/event/six60/
LOCATION:HB Showgrounds\, Kenilworth Road\, Hastings\, 4122\, New Zealand
ATTACH;FMTTYPE=image/png:https://baybuzz.co.nz/wp-content/uploads/2020/12/1366508-603953-14.png
END:VEVENT
BEGIN:VEVENT
DTSTART;TZID=Pacific/Auckland:20210123T110000
DTEND;TZID=Pacific/Auckland:20210123T173000
DTSTAMP:20210122T083956
CREATED:20210105T114655Z
LAST-MODIFIED:20210105T114655Z
UID:16527-1611399600-1611423000@baybuzz.co.nz
SUMMARY:Bridge Pa Wine Festival
DESCRIPTION:Head out to the Bridge Pa Triangle and get out and amongst the festival atmosphere and enjoy a drop of the Hawke’s Bays most finest wines.
URL:https://baybuzz.co.nz/event/bridge-pa-wine-festival/
ATTACH;FMTTYPE=image/jpeg:https://baybuzz.co.nz/wp-content/uploads/2021/01/0AF4B64D-7D4E-4464-9912-B31ABBEA61C2.jpeg
ORGANIZER;CN="Bridge%20Pa%20Triangle":MAILTO:info@bridgepatriangle.nz
END:VEVENT
BEGIN:VEVENT
DTSTART;TZID=Pacific/Auckland:20210124T120000
DTEND;TZID=Pacific/Auckland:20210124T170000
DTSTAMP:20210122T083956
CREATED:20210106T055122Z
LAST-MODIFIED:20210106T055122Z
UID:16545-1611489600-1611507600@baybuzz.co.nz
SUMMARY:Sunday Session 1 - The Cellar Door Band
DESCRIPTION:Te Awanga music sessions hit the ground running in January with the magnificent sounds of The Cellar Door Band. Consisting of some of Hawke’s Bay’s finest muso legends – Scotty Smith\, Tony Parker\, Lindsay Gibb\, Joel Wilton and Ben Throp – gates open at midday with music kicking in at 1pm and going until 5pm.
URL:https://baybuzz.co.nz/event/sunday-session-1-the-cellar-door-band/
LOCATION:Te Awanga Estate\, 376 Parkhill Road\, Te Awanga\, Hastings\, Hawke's Bay\, 4130\, New Zealand
ATTACH;FMTTYPE=image/jpeg:https://baybuzz.co.nz/wp-content/uploads/2021/01/127633701_4016611711702110_2600715693968834801_n.jpg
END:VEVENT
BEGIN:VEVENT
DTSTART;TZID=Pacific/Auckland:20210131T093000
DTEND;TZID=Pacific/Auckland:20210131T120000
DTSTAMP:20210122T083956
CREATED:20210106T222739Z
LAST-MODIFIED:20210106T222739Z
UID:16609-1612085400-1612094400@baybuzz.co.nz
SUMMARY:Walk 2 D'Feet MND
DESCRIPTION:MND New Zealand’s volunteer-led event series\, Walk 2 D’Feet MND\, is happening in Napier.\nA sponsored fundraising and awareness walk. Family-friendly. Dogs welcome on a leash\, but not inside the sailing club. Register to attend in advance and take advantage of an Early Bird discount.
URL:https://baybuzz.co.nz/event/walk-2-dfeet-mnd/
LOCATION:Napier Sailing Club\, 63 West Quay\, Ahuriri\, Napier\, Hawke's Bay\, 4110
ATTACH;FMTTYPE=image/jpeg:https://baybuzz.co.nz/wp-content/uploads/2021/01/126435821_1487816241429129_4551605357313938477_o.jpg
ORGANIZER;CN="MND%20New%20Zealand":MAILTO:admin@mnda.org.nz
END:VEVENT
BEGIN:VEVENT
DTSTART;TZID=Pacific/Auckland:20210131T160000
DTEND;TZID=Pacific/Auckland:20210131T190000
DTSTAMP:20210122T083956
CREATED:20210109T030016Z
LAST-MODIFIED:20210109T030016Z
UID:16739-1612108800-1612119600@baybuzz.co.nz
SUMMARY:HB JAZZ CLUB BIG BAND
DESCRIPTION:After a cancellation due to weather last year the Jazz Club are back. These ladies and gents are always a hit with something for everyone. Check out our page for video from previous concerts.
URL:https://baybuzz.co.nz/event/hb-jazz-club-big-band/
LOCATION:Nelly Jull Park\, High Street\, Waipukurau\, Hawke's Bay\, 4210\, New Zealand
ATTACH;FMTTYPE=image/jpeg:https://baybuzz.co.nz/wp-content/uploads/2021/01/HB-JAZZ-CLUB-BIG-BAND.jpg
END:VEVENT
BEGIN:VEVENT
DTSTART;TZID=Pacific/Auckland:20210203T103000
DTEND;TZID=Pacific/Auckland:20210203T120000
DTSTAMP:20210122T083956
CREATED:20210106T213328Z
LAST-MODIFIED:20210106T213328Z
UID:16580-1612348200-1612353600@baybuzz.co.nz
SUMMARY:90th Anniversary Earthquake Commemoration Ceremony
DESCRIPTION:Hastings District Council will be holding the 90th Anniversary Earthquake Commemoration Ceremony on Wednesday 3 February 2021 at Hastings City Centre near the Clock Tower starting at 10.30am.\n\nThe service will focus on not only remembering this tragic day but also on celebrating the city around us and the community that we all share.
URL:https://baybuzz.co.nz/event/90th-anniversary-earthquake-commemoration-ceremony/
LOCATION:Hastings Clock Tower\, Heretaunga Street\, Hastings\, Hawke's Bay\, 4175\, New Zealand
ATTACH;FMTTYPE=image/jpeg:https://baybuzz.co.nz/wp-content/uploads/2021/01/137090057_3590121147703701_8947766920782639800_o.jpg
END:VEVENT
BEGIN:VEVENT
DTSTART;VALUE=DATE:20210206
DTEND;VALUE=DATE:20210207
DTSTAMP:20210122T083956
CREATED:20201230T001716Z
LAST-MODIFIED:20201230T001716Z
UID:16475-1612569600-1612655999@baybuzz.co.nz
SUMMARY:Waitangi Day Celebrations
DESCRIPTION:Mitre 10 Park Hawke’s Bay  \nNgati Kahungnunu Iwi Inc host a fun-filled day of family activities to mark the signing of Te Titriti in 1840. Music\, kapa haka\, sport\, a marketplace and rides – something for everyone!  \nsportspark.co.nz
URL:https://baybuzz.co.nz/event/waitangi-day-celebrations/
LOCATION:Mitre 10 Park Hawke’s Bay\, Evenden road\, Hastings\, New Zealand
ATTACH;FMTTYPE=image/png:https://baybuzz.co.nz/wp-content/uploads/2020/12/Screen-Shot-2020-12-30-at-11.58.36-AM.png
END:VEVENT
BEGIN:VEVENT
DTSTART;VALUE=DATE:20210206
DTEND;VALUE=DATE:20210309
DTSTAMP:20210122T083956
CREATED:20210119T211855Z
LAST-MODIFIED:20210119T211855Z
UID:16854-1612569600-1615247999@baybuzz.co.nz
SUMMARY:Old Iron Rally
DESCRIPTION:Display & demonstrations of Vintage Machinery
URL:https://baybuzz.co.nz/event/old-iron-rally/
LOCATION:Maraekakaho Sports Grounds\, Cnr SH50 and Kereru Road\, Hastings\, Hawke's Bay\, New Zealand
ATTACH;FMTTYPE=image/jpeg:https://baybuzz.co.nz/wp-content/uploads/2021/01/67888578_420854898776651_1730122455869030400_n.jpg
ORGANIZER;CN="Hawkes%20Bay%20Vintage%20Machinery%20Club%20Inc":MAILTO:redantiques49@gmail.com
END:VEVENT
BEGIN:VEVENT
DTSTART;TZID=Pacific/Auckland:20210212T173000
DTEND;TZID=Pacific/Auckland:20210212T203000
DTSTAMP:20210122T083956
CREATED:20210119T212104Z
LAST-MODIFIED:20210119T212104Z
UID:16859-1613151000-1613161800@baybuzz.co.nz
SUMMARY:Napier Night Fiesta
DESCRIPTION:Make the most of the balmy summer weather at the Napier Night Fiesta.\nCome and dine on delectable food while relaxing to local tunes and soaking up the fabulous atmosphere of Napier’s Clive Square at twilight.
URL:https://baybuzz.co.nz/event/napier-night-fiesta-2/
LOCATION:Napier Clive Square Gardens\, Napier South\, Napier\, Hawke's Bay\, 4110\, New Zealand
ATTACH;FMTTYPE=image/jpeg:https://baybuzz.co.nz/wp-content/uploads/2021/01/135591315_2839449709624815_1878182378735870592_o-scaled.jpg
ORGANIZER;CN="Napier%20City%20Council":MAILTO:info@napier.govt.nz
END:VEVENT
BEGIN:VEVENT
DTSTART;TZID=Pacific/Auckland:20210213T100000
DTEND;TZID=Pacific/Auckland:20210213T200000
DTSTAMP:20210122T083956
CREATED:20210107T070529Z
LAST-MODIFIED:20210107T070529Z
UID:16698-1613210400-1613246400@baybuzz.co.nz
SUMMARY:East Coast FMG Young Farmer Of The Year Regional Final
DESCRIPTION:The East Coast FMG Young Farmer of the Year Regional Final is hosted in two parts.\nThe practical day is being held at Hawkes Bay Racecourse and kicking off at 8:00am where all eight competitors will go head to head\, alongside the FMG Junior Young Farmer of the Year and AgriKids competitors.
URL:https://baybuzz.co.nz/event/east-coast-fmg-young-farmer-of-the-year-regional-final/
LOCATION:HB Showgrounds\, Kenilworth Road\, Hastings\, 4122\, New Zealand
ATTACH;FMTTYPE=image/jpeg:https://baybuzz.co.nz/wp-content/uploads/2021/01/East-Coast-FMG-Young-Farmer-Of-The-Year-Regional-Final.jpg
END:VEVENT
BEGIN:VEVENT
DTSTART;TZID=Pacific/Auckland:20210213T120000
DTEND;TZID=Pacific/Auckland:20210213T160000
DTSTAMP:20210122T083956
CREATED:20210112T024755Z
LAST-MODIFIED:20210112T024755Z
UID:16751-1613217600-1613232000@baybuzz.co.nz
SUMMARY:Lindsay Farm Open Day
DESCRIPTION:Everyone is welcome to come and visit our organic dairy farm. Get up close and personal with our cows and see how we do things here at Lindsay farm.\nLots of activities for the kids including a waterslide\, colouring in contest & naming our newest calf\nFood & Coffee carts will be there to purchase food or bring a picnic\nSir Duke band will be playing creating a great atmosphere
URL:https://baybuzz.co.nz/event/lindsay-farm-open-day/
LOCATION:Lindsay Farm\, Lindsay Road\, Waipukurau\, Hawke's Bay\, New Zealand
ATTACH;FMTTYPE=image/jpeg:https://baybuzz.co.nz/wp-content/uploads/2021/01/137680041_1567145386811915_6336709579060047834_o.jpg
END:VEVENT
BEGIN:VEVENT
DTSTART;TZID=Pacific/Auckland:20210213T130000
DTEND;TZID=Pacific/Auckland:20210213T233000
DTSTAMP:20210122T083956
CREATED:20210106T223235Z
LAST-MODIFIED:20210106T223235Z
UID:16614-1613221200-1613259000@baybuzz.co.nz
SUMMARY:Outfield Music\, Food & Arts Festival 2021
DESCRIPTION:If you’ve ever been on a summer road trip through Hawkes Bay\, chances are you’ve spent some time on the coast at laidback Te Awanga\, a beachside settlement with a thriving arts and crafts community\, surf for days\, and an abundance of wineries\, amongst other curiosities.
URL:https://baybuzz.co.nz/event/outfield-music-food-arts-festival-2021/
LOCATION:Cape Estate Event & Wedding Venue\, 34 Gordon Road\, Te Awanga\, Hastings\, Hawke's Bay\, 4102\, New Zealand
ATTACH;FMTTYPE=image/jpeg:https://baybuzz.co.nz/wp-content/uploads/2021/01/115768656_326137662107787_4037954579636338839_o.jpg
END:VEVENT
BEGIN:VEVENT
DTSTART;TZID=Pacific/Auckland:20210213T160000
DTEND;TZID=Pacific/Auckland:20210213T220000
DTSTAMP:20210122T083956
CREATED:20210107T070156Z
LAST-MODIFIED:20210107T070156Z
UID:16694-1613232000-1613253600@baybuzz.co.nz
SUMMARY:River Park Blues Festival 2021
DESCRIPTION:Kick back and tune in to some amazing blues talent from around NZ.\nLine Up:\nThe Self Righteous Brothers\nThe Flaming Mudcats\nThe Recliner Rockers\nTony Painting\nBrilleaux
URL:https://baybuzz.co.nz/event/river-park-blues-festival-2021/
LOCATION:River Park Event Centre\, 797 Pourere Road\,\, Waipukurau\, Hawke's Bay\, 4271\, New Zealand
ATTACH;FMTTYPE=image/jpeg:https://baybuzz.co.nz/wp-content/uploads/2021/01/120097317_4086619731353407_7752108410379877815_o.jpg
END:VEVENT
BEGIN:VEVENT
DTSTART;TZID=Pacific/Auckland:20210214T100000
DTEND;TZID=Pacific/Auckland:20210214T130000
DTSTAMP:20210122T083956
CREATED:20210107T064325Z
LAST-MODIFIED:20210107T064325Z
UID:16677-1613296800-1613307600@baybuzz.co.nz
SUMMARY:CHB Rescue Helicopter Open Day
DESCRIPTION:Lowe Corporation Rescue Helicopter Service has been looking after the Hawke’s Bay region for decades.\nOn Sunday the 14th February at the CHB Aero Club\, based in Waipukurau\, we will have our service\, as well as other local emergency services on display for the community to come and check out.\nWe will have fun activities for everyone to do\, including:\n– Take a photo in the helicopter and explore our incredible machine\n– Jump on the bouncy castle\n– Take a photo in our pilot suit cut out\n– Get your face painted\n– Check out what the other emergency services in the area do\n– Have a look on board the Mobile Surgical Unit\n– Enjoy a sausage sizzle\n– and so much more!\nAll of this for just a gold coin entry!
URL:https://baybuzz.co.nz/event/chb-rescue-helicopter-open-day/
LOCATION:Central Hawke’s Bay Aerodrome\, Waipukurau\, Hawke's Bay\, 4200\, New Zealand
ATTACH;FMTTYPE=image/jpeg:https://baybuzz.co.nz/wp-content/uploads/2021/01/118815981_3735636399799647_7521070781016747820_o.jpg
END:VEVENT
BEGIN:VEVENT
DTSTART;VALUE=DATE:20210217
DTEND;VALUE=DATE:20210222
DTSTAMP:20210122T083956
CREATED:20210105T102858Z
LAST-MODIFIED:20210105T102858Z
UID:16503-1613520000-1613951999@baybuzz.co.nz
SUMMARY:Napier Art Deco Festival 
DESCRIPTION:Around 300 events\, and all with costumes! The Art Deco period isn’t known for its food … so it’s totally acceptable to tailor your festival schedule towards the fashion\, film and art angles\, plus throw in a walking tour\, a railcar ride and the famous Soap Box Derby\, capped off with some oohing and aahhhing over the cars\, you’re sorted! And don’t forget to look to the skies on the Friday\, Saturday and Sunday for the memorial flying displays. 
URL:https://baybuzz.co.nz/event/napier-art-deco-festival/
ATTACH;FMTTYPE=image/jpeg:https://baybuzz.co.nz/wp-content/uploads/2020/05/BB51-Art-Deco-Soap_Box_Derby.jpg
END:VEVENT
BEGIN:VEVENT
DTSTART;VALUE=DATE:20210220
DTEND;VALUE=DATE:20210221
DTSTAMP:20210122T083956
CREATED:20210105T103245Z
LAST-MODIFIED:20210105T103245Z
UID:16505-1613779200-1613865599@baybuzz.co.nz
SUMMARY:Napier Port Ocean Swim Perfume Point Reserve
DESCRIPTION: There are race distances for all ages and abilities at this classic HB summer event. The longest is the 2500m blue seventy and T&G Global course. Swim as an individual or find a couple of mates and make a team of three.
URL:https://baybuzz.co.nz/event/napier-port-ocean-swim-perfume-point-reserve/
LOCATION:Perfume Point Reserve\, 46 Nelson Quay\, Napier\, Hawke's Bay\, 4110\, New Zealand
ATTACH;FMTTYPE=image/png:https://baybuzz.co.nz/wp-content/uploads/2021/01/NPE-port-ocean-swim.png
END:VEVENT
BEGIN:VEVENT
DTSTART;TZID=Pacific/Auckland:20210220T193000
DTEND;TZID=Pacific/Auckland:20210220T223000
DTSTAMP:20210122T083956
CREATED:20210106T223452Z
LAST-MODIFIED:20210106T223452Z
UID:16619-1613849400-1613860200@baybuzz.co.nz
SUMMARY:Sol3 Mio
DESCRIPTION:SOL3 MIO announce nationwide tour to round out the Kiwi summer! SOL3 MIO\, will perform in some of the country’s most loved regional venues with a repertoire of classics as well as debut some of their own new material.
URL:https://baybuzz.co.nz/event/sol3-mio/
LOCATION:Black Barn\, Te Mata Road\, Havelock North\, New Zealand
ATTACH;FMTTYPE=image/jpeg:https://baybuzz.co.nz/wp-content/uploads/2021/01/130601295_2824079627868448_8660853093409773042_o.jpg
END:VEVENT
BEGIN:VEVENT
DTSTART;TZID=Pacific/Auckland:20210221T100000
DTEND;TZID=Pacific/Auckland:20210221T120000
DTSTAMP:20210122T083956
CREATED:20210107T064729Z
LAST-MODIFIED:20210107T064729Z
UID:16682-1613901600-1613908800@baybuzz.co.nz
SUMMARY:Have a Go Day
DESCRIPTION:Head along and ‘Have A Go’ at different Sports\, learn about your local Clubs and how to keep safe when you are playing.
URL:https://baybuzz.co.nz/event/have-a-go-day/
LOCATION:Mitre 10 Park Hawke’s Bay\, Hastings\, New Zealand
ATTACH;FMTTYPE=image/jpeg:https://baybuzz.co.nz/wp-content/uploads/2021/01/103530478_2565376080229455_2932217121478821111_o.jpg
END:VEVENT
BEGIN:VEVENT
DTSTART;TZID=Pacific/Auckland:20210228T110000
DTEND;TZID=Pacific/Auckland:20210228T140000
DTSTAMP:20210122T083956
CREATED:20210107T063624Z
LAST-MODIFIED:20210107T063624Z
UID:16673-1614510000-1614520800@baybuzz.co.nz
SUMMARY:More FM Family Fun Day 2021
DESCRIPTION:We’re so excited to announce the More FM Family Fun Day is coming back for 2021!\nWhat’s happening? \n– Three Legged Races\, Egg & Spoon Races\, Sack Races and Tug-O-War!\n– Gumboot Throwing and Mum & Dad races!\n– Food Vendors TBC in January.\n– Slides\, Obstacle Courses\, Bouncy Castles and a Miniature Train from The Madd Fun Company!
URL:https://baybuzz.co.nz/event/more-fm-family-fun-day-2021/
LOCATION:Mitre 10 Park Hawke’s Bay\, Evenden road\, Hastings\, New Zealand
ATTACH;FMTTYPE=image/jpeg:https://baybuzz.co.nz/wp-content/uploads/2021/01/131538357_3569413339814331_2407501480747797941_o.jpg
END:VEVENT
BEGIN:VEVENT
DTSTART;TZID=Pacific/Auckland:20210304T180000
DTEND;TZID=Pacific/Auckland:20210304T223000
DTSTAMP:20210122T083956
CREATED:20210106T225235Z
LAST-MODIFIED:20210106T225256Z
UID:16625-1614880800-1614897000@baybuzz.co.nz
SUMMARY:the kiwi 7
DESCRIPTION:We are delighted to present some of New Zealand’s favourite entertainers\, singers\, and musicians\, with full support band performing together exclusively at Black Barn Amphitheatre on Thursday 4 March. \nSome of the most celebrated and iconic entertainers in one show. Each will perform their own hits and then they all come together to perform even more of New Zealand’s most memorable rock anthems. \nFeaturing\, Annie Crummer\, Jason Kerrison\, Che Fu\, The Lady Killers\, Nathan King\, Andy Lynch & Rodney Fisher
URL:https://baybuzz.co.nz/event/the-kiwi-7/
LOCATION:Black Barn\, Te Mata Road\, Havelock North\, New Zealand
ATTACH;FMTTYPE=image/jpeg:https://baybuzz.co.nz/wp-content/uploads/2021/01/black-barn-vineyards-t-dt20200622070531844.jpg
END:VEVENT
BEGIN:VEVENT
DTSTART;VALUE=DATE:20210305
DTEND;VALUE=DATE:20210308
DTSTAMP:20210122T083956
CREATED:20210105T103612Z
LAST-MODIFIED:20210105T103612Z
UID:16510-1614902400-1615161599@baybuzz.co.nz
SUMMARY:NZ Track and Field Champs Mitre 10 Park Hawke’s Bay
DESCRIPTION:Head for the Sportspark to give some vocal support to New Zealand’s top athletic competitors. 
URL:https://baybuzz.co.nz/event/nz-track-and-field-champs-mitre-10-park-hawkes-bay/
LOCATION:Mitre 10 Park Hawke’s Bay\, Evenden road\, Hastings\, New Zealand
ATTACH;FMTTYPE=image/png:https://baybuzz.co.nz/wp-content/uploads/2021/01/athletics-New-Zealand-.png
END:VEVENT
BEGIN:VEVENT
DTSTART;VALUE=DATE:20210306
DTEND;VALUE=DATE:20210308
DTSTAMP:20210122T083956
CREATED:20210105T104111Z
LAST-MODIFIED:20210105T104111Z
UID:16513-1614988800-1615161599@baybuzz.co.nz
SUMMARY:Crowded House
DESCRIPTION: Ticket availability won’t last much longer\, so get cracking to see the iconic NZ band on their To The Island tour. The tour features founding members Neil Finn and Nick Seymour along with producer and keyboardist Mitchell Froom\, guitarist and singer Liam Finn and drummer Elroy Finn. 
URL:https://baybuzz.co.nz/event/crowded-house/
LOCATION:Church Road Winery\, 150 Church Road\, Napier\, Hawke's Bay\, 4110\, New Zealand
ATTACH;FMTTYPE=image/jpeg:https://baybuzz.co.nz/wp-content/uploads/2021/01/qkxuuhysa7nw6qehps2nopjoua_1.jpg
END:VEVENT
BEGIN:VEVENT
DTSTART;TZID=Pacific/Auckland:20210307T180000
DTEND;TZID=Pacific/Auckland:20210307T223000
DTSTAMP:20210122T083956
CREATED:20210106T224920Z
LAST-MODIFIED:20210106T224920Z
UID:16622-1615140000-1615156200@baybuzz.co.nz
SUMMARY:Jon Stevens - INXS & Noiseworks + Automatic 80's
DESCRIPTION:Australian based Kiwi rocker Jon Stevens\, with his Noiseworks and INXS collection\, can’t wait to perform all the huge hits at the renowned Black Barn Amphitheatre on Sunday 7 March. The former frontman of these bands will rock out chart-toppers such as Devil Inside\, Suicide Blonde\, Need you Tonight and Original Sin from INXS and Hot Chilli Women\, Take me Back and No Lies from Noiseworks. Every song on the setlist is a smash radio hit and guaranteed to have you on your feet from the outset.
URL:https://baybuzz.co.nz/event/jon-stevens-inxs-noiseworks-automatic-80s/
LOCATION:Black Barn\, Te Mata Road\, Havelock North\, New Zealand
ATTACH;FMTTYPE=image/jpeg:https://baybuzz.co.nz/wp-content/uploads/2021/01/jonstevens60-dt20200621234448287.jpg
END:VEVENT
BEGIN:VEVENT
DTSTART;TZID=Pacific/Auckland:20210309T080000
DTEND;TZID=Pacific/Auckland:20210314T170000
DTSTAMP:20210122T083956
CREATED:20210105T104440Z
LAST-MODIFIED:20210105T104440Z
UID:16517-1615276800-1615741200@baybuzz.co.nz
SUMMARY:Horse of the Year Hawke’s Bay
DESCRIPTION: HOY is one of the Southern Hemisphere’s biggest sporting events\, bringing in 2\,600 horses\, 1\,800 riders and 400 volunteers into the 28 arenas at the showgrounds. Plus there’s 8\,000 square metres of shopping\, and some seriously exciting competition to take in over the six-day event. 
URL:https://baybuzz.co.nz/event/horse-of-the-year-hawkes-bay/
LOCATION:HB Showgrounds\, Kenilworth Road\, Hastings\, 4122\, New Zealand
ATTACH;FMTTYPE=image/png:https://baybuzz.co.nz/wp-content/uploads/2021/01/HOY.png
ORGANIZER;CN="HOY":MAILTO:sophie@hoy.kiwi
END:VEVENT
BEGIN:VEVENT
DTSTART;TZID=Pacific/Auckland:20210327T193000
DTEND;TZID=Pacific/Auckland:20210327T230000
DTSTAMP:20210122T083956
CREATED:20210107T065459Z
LAST-MODIFIED:20210107T065459Z
UID:16690-1616873400-1616886000@baybuzz.co.nz
SUMMARY:Eclipse Live in Concert
DESCRIPTION:Over the last 10 years Eclipse – NZ’s ultimate Pink Floyd tribute show has performed sold-out concerts to thousands of gig-goers complete with psychedelic visuals and a state-of-the-art light show that are hailed by those present as a sight and sound spectacular rarely seen outside of this country’s major stadiums.
URL:https://baybuzz.co.nz/event/eclipse-live-in-concert/
LOCATION:Pettigrew Green Arena\, Gloucester Street\, Taradale\, Napier\, Hawke's Bay\, 4110\, New Zealand
ATTACH;FMTTYPE=image/jpeg:https://baybuzz.co.nz/wp-content/uploads/2021/01/128776445_3684351878288606_3446635757216579506_n.jpg
END:VEVENT
BEGIN:VEVENT
DTSTART;TZID=Pacific/Auckland:20210409T173000
DTEND;TZID=Pacific/Auckland:20210409T200000
DTSTAMP:20210122T083956
CREATED:20210114T005900Z
LAST-MODIFIED:20210114T005900Z
UID:16782-1617989400-1617998400@baybuzz.co.nz
SUMMARY:Sweet as Banana Pudding Art Exhibition: Grand Opening
DESCRIPTION:The Heretaunga Women’s Centre Art Exhibition and Sale\, ‘Sweet as Banana Pudding’ is an exhibition and sale of work by women artists\, both professional and emerging\, who reside in the Hawke’s Bay region. It also serves as our main annual fundraiser. We recommend going to the opening night as not only is it fun with it’s open bar\, band and great mix of people but in order to be in first to purchase art work. We don’t ‘hold’ any art works or do any pre-sales. Tickets for opening night available on Eventbrite or at the women’s Centre. Tickets $20\nThe Women’s centre becomes an art gallery for a week – during that time normal centre activities will not operate. Find us at the Women’s Rest Building Cnr. Russell & Eastbourne Streets\, Hastings 4122 Men are welcome to attend all days of the exhibition.
URL:https://baybuzz.co.nz/event/sweet-as-banana-pudding-art-exhibition-grand-opening/
LOCATION:Heretaunga Women’s Centre\, Cnr. Russell & Eastbourne Streets\, Hastings\, Hawke's Bay\, 4122\, New Zealand
ATTACH;FMTTYPE=image/jpeg:https://baybuzz.co.nz/wp-content/uploads/2021/01/138705795_3759191450804589_4045426164599042461_n.jpg
END:VEVENT
END:VCALENDAR